BEGIN:VCALENDAR
VERSION:2.0
PRODID:-//Hemophilia Alliance - ECPv6.3.7//NONSGML v1.0//EN
CALSCALE:GREGORIAN
METHOD:PUBLISH
X-WR-CALNAME:Hemophilia Alliance
X-ORIGINAL-URL:https://hemoalliance.org
X-WR-CALDESC:Events for Hemophilia Alliance
REFRESH-INTERVAL;VALUE=DURATION:PT1H
X-Robots-Tag:noindex
X-PUBLISHED-TTL:PT1H
BEGIN:VTIMEZONE
TZID:America/New_York
BEGIN:DAYLIGHT
TZOFFSETFROM:-0500
TZOFFSETTO:-0400
TZNAME:EDT
DTSTART:20260308T070000
END:DAYLIGHT
BEGIN:STANDARD
TZOFFSETFROM:-0400
TZOFFSETTO:-0500
TZNAME:EST
DTSTART:20261101T060000
END:STANDARD
END:VTIMEZONE
BEGIN:VEVENT
DTSTART;VALUE=DATE:20260319
DTEND;VALUE=DATE:20260322
DTSTAMP:20260422T181620
CREATED:20260127T012447Z
LAST-MODIFIED:20260127T012504Z
UID:72133-1773878400-1774137599@hemoalliance.org
SUMMARY:🟦 Non-Member Event : THSNA 2026 Thrombosis & Hemostasis Summit of North America
DESCRIPTION:Date: March 19 – 21 (Portland\, OR)\nClick here for info.
URL:https://hemoalliance.org/alliance-events/non-member-event-thsna-2026-thrombosis-hemostasis-summit-of-north-america/
CATEGORIES:Non Members
END:VEVENT
BEGIN:VEVENT
DTSTART;TZID=America/New_York:20260331T130000
DTEND;TZID=America/New_York:20260331T140000
DTSTAMP:20260422T181620
CREATED:20260304T202939Z
LAST-MODIFIED:20260304T203023Z
UID:72501-1774962000-1774965600@hemoalliance.org
SUMMARY:🟥 Member Webinar : Hemophilia Alliance Hosts - A Webinar from BrightStar Care - BrightStar Franchising Nursing Care Agreement
DESCRIPTION:Date: Tuesday\, March 31st\, 2026\nTime: 1:00pm – 2:00pm ET \n \n  \n  \n  \n \n  \nWEBINAR TOPIC: \nBrightStar Franchising\, LLC Master Service Agreement for Nursing Services Now Available to Hemophilia Alliance Member Hemophilia Treatment Centers. \nOBJECTIVES: \n\nUnderstand the services of BrightStar Franchising\, LLC. And what services are available to Hemophilia Alliance member HTCs under the Master Service Agreement\n\nWho is BrightStar Franchising\, LLC\nWhat services are available through this Master Services Agreement to Hemophilia Treatment Centers (HTC)\nWhat states are BrightStar Franchises located/not located\nHow do HTCs access the BrightStar local agencies for services\n\n\nReview of the key aspects of the Master Service Agreement\n\nKey considerations for HTCs\nKey considerations for BrightStar Franchises\n\n\n\nAUDIENCE: \nAll HTC Staff. \nSPEAKERS: \n \nWil Cabrera\, MBA \nVP\, National Accounts \n  \n  \n  \n \nDebra Smith\, MBA HCM \nSr. Director\, Centralized Intake Operations \n  \n  \n  \n \nJoshua Allen\, RN \nSr. Director Infusion Services
URL:https://hemoalliance.org/alliance-events/a-webinar-from-brightstar-care-brightstar-franchising-nursing-care-agreement/
CATEGORIES:Members Only,Webinar
END:VEVENT
BEGIN:VEVENT
DTSTART;VALUE=DATE:20260409
DTEND;VALUE=DATE:20260413
DTSTAMP:20260422T181620
CREATED:20260127T013749Z
LAST-MODIFIED:20260127T013749Z
UID:72136-1775692800-1776038399@hemoalliance.org
SUMMARY:🟦 Non-Member Event : The Coalition for Hemophilia B 2026 Annual Symposium
DESCRIPTION:Date: April 9 – 12 (Las Vegas\, NV)\nClick here for info.
URL:https://hemoalliance.org/alliance-events/non-member-event-the-coalition-for-hemophilia-b-2026-annual-symposium/
CATEGORIES:Non Members
END:VEVENT
BEGIN:VEVENT
DTSTART;VALUE=DATE:20260416
DTEND;VALUE=DATE:20260420
DTSTAMP:20260422T181620
CREATED:20260127T014022Z
LAST-MODIFIED:20260127T014022Z
UID:72139-1776297600-1776643199@hemoalliance.org
SUMMARY:🟦 Non-Member Event : HFA 2026 Symposium
DESCRIPTION:Date: April 16 – 19 (New Orleans\, LA)\nClick here for info.
URL:https://hemoalliance.org/alliance-events/non-member-event-hfa-2026-symposium/
CATEGORIES:Non Members
END:VEVENT
BEGIN:VEVENT
DTSTART;VALUE=DATE:20260419
DTEND;VALUE=DATE:20260423
DTSTAMP:20260422T181620
CREATED:20260127T014352Z
LAST-MODIFIED:20260127T014508Z
UID:72142-1776556800-1776902399@hemoalliance.org
SUMMARY:🟦 Non-Member Event : WFH 2026 World Congress
DESCRIPTION:Date: April 19 – 22 (Malaysia) \nClick here for info.
URL:https://hemoalliance.org/alliance-events/non-member-event-wfh-2026-world-congress/
CATEGORIES:Non Members
END:VEVENT
BEGIN:VEVENT
DTSTART;TZID=America/New_York:20260421T183000
DTEND;TZID=America/New_York:20260423T153000
DTSTAMP:20260422T181620
CREATED:20250604T142420Z
LAST-MODIFIED:20260127T141010Z
UID:70968-1776796200-1776958200@hemoalliance.org
SUMMARY:🟥 Member Event : 2026 New HTC Staff Meeting
DESCRIPTION:Date: April 21 – 23\, 2026\nLocation: Aurora\, CO \n\nPlease contact Theresa Parker with any questions regarding this registration at theresa@hemoalliance.org or 727-688-2568.
URL:https://hemoalliance.org/alliance-events/member-event-2026-new-htc-staff-meeting/
CATEGORIES:Members Only
END:VEVENT
BEGIN:VEVENT
DTSTART;TZID=America/New_York:20260428T163000
DTEND;TZID=America/New_York:20260428T173000
DTSTAMP:20260422T181620
CREATED:20260403T122439Z
LAST-MODIFIED:20260414T151805Z
UID:72618-1777393800-1777397400@hemoalliance.org
SUMMARY:🟥 Member Webinar : Hemophilia Alliance Hosts - A Webinar from Sanofi - Targeted Multi-Immune Modulation in ITP
DESCRIPTION:Date: Tuesday\, April 28th\, 2026\nTime: 4:30pm – 5:30pm ET \n \n  \n  \n  \n \n  \nWEBINAR TOPIC:\nTargeted Multi-Immune Modulation in ITP \nDESCRIPTION:\nThis event will provide an overview of a multi-immune modulator that helps address the complex immune dysregulation in immune thrombocytopenia (ITP). The presentation will highlight key aspects of the disease pathophysiology\, the potential benefits of a multi-immune modulator and clinical trial evidence in ITP patients. \nAUDIENCE:\nAll HTC Staff. \nSPEAKER: \n \nMichael Tarantino\, MD \nDr. Tarantino has more than 30 years of experience in hematology\, as well as 14 years of experience as the Founder\, Chief Medical Officer and Chief Executive Officer of the Bleeding & Clotting Disorders Institute. For over three decades he has devoted his medical career to the management of bleeding and blood clotting disorders\, as well as non-malignant hematology disorders. \nDr. Tarantino also serves as the Medical Director of the Anticoagulation Consultation Service at St. Francis Medical Center. Since 2008\, Dr. Tarantino is a tenured Professor of Pediatrics and Medicine at the University of Illinois College of Medicine in Peoria and is active in teaching medical students\, residents and allied health professionals. \nDr. Tarantino earned a Doctor of Medicine degree from the University of Wisconsin School of Medicine and Public Health in 1987. He then completed a residency in pediatrics from the University of Arizona in 1990 and a fellowship in pediatric hematology and oncology from the University of Wisconsin in 1993. \nDr. Tarantino is board certified in Pediatric Hematology and Oncology. He is the chairman of the Medical Advisory Board of the Platelet Disorder Support Association and served as a member of the Medical Advisory and Scientific Council of the National Bleeding Disorders Foundation from 2012-2022. In 2005 and 2017 Dr. Tarantino received the Research Excellence Award from the University of Illinois College of Medicine\, and in 2012 and 2018 he was awarded the Physician of the Year and the Excellence in Healthcare Award\, respectively\, from the National Bleeding Disorders Foundation. In 2024\, Dr. Tarantino was honored to receive a Lifetime Achievement Award from NBDF for his dedicated career of improving the lives of individuals with bleeding disorders- helping them live longer lives while empowering them to become their own advocates. \nDr. Tarantino has had an active career in clinical and translational research. As a result\, he has authored or co-authored over 125 peer-reviewed papers\, reviews and book chapters\, in addition to over 140 scientific abstracts.
URL:https://hemoalliance.org/alliance-events/a-webinar-from-sanofi-targeted-multi-immune-modulation-in-itp/
CATEGORIES:Members Only,Webinar
END:VEVENT
BEGIN:VEVENT
DTSTART;TZID=America/New_York:20260503T183000
DTEND;TZID=America/New_York:20260505T153000
DTSTAMP:20260422T181620
CREATED:20250604T142920Z
LAST-MODIFIED:20260205T061727Z
UID:70977-1777833000-1777995000@hemoalliance.org
SUMMARY:🟥 Member Event : 2026 Nurses CE Meeting
DESCRIPTION:Date: May 3 – 5\, 2026\nLocation: Chicago\, IL \n  \nPlease note: this application button will redirect you to Cvent\, the Alliance’s NEW management registration platform. \n \n  \n  \n  \nPlease contact Theresa Parker with any questions regarding this registration at theresa@hemoalliance.org or 727-688-2568.
URL:https://hemoalliance.org/alliance-events/member-event-2026-nurses-ce-meeting/
CATEGORIES:Members Only
END:VEVENT
BEGIN:VEVENT
DTSTART;TZID=America/New_York:20260506T183000
DTEND;TZID=America/New_York:20260508T153000
DTSTAMP:20260422T181620
CREATED:20250604T143054Z
LAST-MODIFIED:20260205T062124Z
UID:70980-1778092200-1778254200@hemoalliance.org
SUMMARY:🟥 Member Event : 2026 Physical Therapists CE Meeting
DESCRIPTION:Date: May 6 – 8\, 2026\nLocation: Chicago\, IL \n  \nPlease note: this application button will redirect you to Cvent\, the Alliance’s NEW management registration platform. \n \n  \n  \n  \nPlease contact Theresa Parker with any questions regarding this registration at theresa@hemoalliance.org or 727-688-2568.
URL:https://hemoalliance.org/alliance-events/member-event-2026-physical-therapists-ce-meeting/
CATEGORIES:Members Only
END:VEVENT
BEGIN:VEVENT
DTSTART;TZID=America/New_York:20260512T130000
DTEND;TZID=America/New_York:20260512T140000
DTSTAMP:20260422T181620
CREATED:20260414T151231Z
LAST-MODIFIED:20260414T151307Z
UID:72709-1778590800-1778594400@hemoalliance.org
SUMMARY:🟥 Member Webinar : Hemophilia Alliance Hosts - A Webinar from Octapharma - Addressing Heavy Menstrual Bleeding in von Willebrand Disease: Clinical Insights and the Role of wilate®
DESCRIPTION:Date: Tuesday\, May 12th\, 2026\nTime: 1:00pm – 2:00pm ET \n \n  \n  \n  \n \n  \nWEBINAR TOPIC:\nAddressing Heavy Menstrual Bleeding in von Willebrand Disease: Clinical Insights and the Role of wilate® \nOBJECTIVES: \n\nHeavy menstrual bleeding (HMB) is one of the most common and underrecognized manifestations of von Willebrand disease (VWD) and represents a significant cause of iron deficiency and iron deficiency anemia in affected women. Chronic blood loss associated with HMB can lead to fatigue\, impaired cognitive and physical functioning\, reduced quality of life\, and increased healthcare utilization. Despite its prevalence\, both VWD and iron deficiency related to HMB are frequently underdiagnosed and undertreated.\nThis webinar will provide a focused clinical overview of HMB in the context of VWD\, emphasizing the interconnected relationship between abnormal bleeding and iron deficiency. Participants will review the burden of disease\, diagnostic considerations\, and treatment goals aimed at controlling bleeding while addressing its systemic consequences. The program will also highlight Wilate®\, a VWF/FVIII concentrate\, including its clinical profile\, supporting evidence\, and practical application in the management of HMB associated with VWD. Finally\, the webinar will explore Wilate’s clinical and therapeutic value proposition\, with an emphasis on optimizing outcomes and improving quality of life for women living with VWD-related HMB.\n\nAUDIENCE:\nAll HTC Staff. \nSPEAKER: \n \nClaudio Sandoval\, MD – Senior Director\, Scientific and Medical Affairs – Hematology Octapharma USA \nClaudio Sandoval is the Director of Scientific & Medical Affairs at Octapharma. Before his current role he was a pediatric hematologist-oncologist for 30 years caring for children with bleeding disorders\, cancer\, sickle cell disease\, and other maladies. Claudio graduated from New York Medical College and trained at Schneider Children’s Hospital in New Hyde Park\, NY and St. Jude Children’s Research Hospital in Memphis\, TN.
URL:https://hemoalliance.org/alliance-events/a-webinar-from-octapharma-addressing-heavy-menstrual-bleeding-in-von-willebrand-disease-clinical-insights-and-the-role-of-wilate/
CATEGORIES:Members Only,Webinar
END:VEVENT
BEGIN:VEVENT
DTSTART;VALUE=DATE:20260528
DTEND;VALUE=DATE:20260531
DTSTAMP:20260422T181620
CREATED:20260127T143227Z
LAST-MODIFIED:20260127T143239Z
UID:72151-1779926400-1780185599@hemoalliance.org
SUMMARY:🟦 Non-Member Event : 340B Grantee Spring Conference
DESCRIPTION:Date: May 28 – 30 (Houston\, TX)\nClick here for info.
URL:https://hemoalliance.org/alliance-events/non-member-event-340b-grantee-spring-conference/
CATEGORIES:Non Members
END:VEVENT
BEGIN:VEVENT
DTSTART;VALUE=DATE:20260713
DTEND;VALUE=DATE:20260716
DTSTAMP:20260422T181620
CREATED:20260127T143550Z
LAST-MODIFIED:20260127T143910Z
UID:72154-1783900800-1784159999@hemoalliance.org
SUMMARY:🟦 Non-Member Event : 340B Coalition Summer Conference
DESCRIPTION:Date: July 13 – 15 (Washington\, D.C.)\nClick here for info.
URL:https://hemoalliance.org/alliance-events/non-member-event-340b-coalition-summer-conference-2026/
CATEGORIES:Non Members
END:VEVENT
BEGIN:VEVENT
DTSTART;VALUE=DATE:20260813
DTEND;VALUE=DATE:20260816
DTSTAMP:20260422T181620
CREATED:20260127T143822Z
LAST-MODIFIED:20260127T143838Z
UID:72156-1786579200-1786838399@hemoalliance.org
SUMMARY:🟦 Non-Member Event : NBDF BDC
DESCRIPTION:Date: August 13 – 15 (Orlando\, FL)\nClick here for info.
URL:https://hemoalliance.org/alliance-events/non-member-event-nbdf-bdc-2026/
CATEGORIES:Non Members
END:VEVENT
BEGIN:VEVENT
DTSTART;TZID=America/New_York:20260927T183000
DTEND;TZID=America/New_York:20260929T163000
DTSTAMP:20260422T181620
CREATED:20250604T143303Z
LAST-MODIFIED:20251205T164120Z
UID:70983-1790533800-1790699400@hemoalliance.org
SUMMARY:🟥 Member Event : 2026 Fall Members Meeting & Hill Day
DESCRIPTION:Date: September 27 – 29\, 2026 [SAVE THE DATE]\nLocation: Washington\, DC \nPlease contact Theresa Parker with any questions regarding this registration at theresa@hemoalliance.org or 727-688-2568.
URL:https://hemoalliance.org/alliance-events/member-event-2026-fall-members-meeting-hill-day/
CATEGORIES:Members Only
END:VEVENT
BEGIN:VEVENT
DTSTART;VALUE=DATE:20261009
DTEND;VALUE=DATE:20261012
DTSTAMP:20260422T181620
CREATED:20260127T144658Z
LAST-MODIFIED:20260127T144710Z
UID:72160-1791504000-1791763199@hemoalliance.org
SUMMARY:🟦 Non-Member Event : FWGBD Annual Conference
DESCRIPTION:Date: October 9 – 11 (Boston\, MA)\nClick here for info.
URL:https://hemoalliance.org/alliance-events/non-member-event-fwgbd-annual-conference/
CATEGORIES:Non Members
END:VEVENT
BEGIN:VEVENT
DTSTART;VALUE=DATE:20261021
DTEND;VALUE=DATE:20261023
DTSTAMP:20260422T181620
CREATED:20260205T220625Z
LAST-MODIFIED:20260309T220806Z
UID:72163-1792540800-1792713599@hemoalliance.org
SUMMARY:🟦 Non-Member Event : ATHN Data Summit
DESCRIPTION:Date: October 21 – 22\, 2026 (New Orleans\, LA)\nClick here for info.
URL:https://hemoalliance.org/alliance-events/non-member-event-athn-data-summit-2026/
CATEGORIES:Non Members
END:VEVENT
BEGIN:VEVENT
DTSTART;VALUE=DATE:20261212
DTEND;VALUE=DATE:20261216
DTSTAMP:20260422T181620
CREATED:20260127T145329Z
LAST-MODIFIED:20260127T145329Z
UID:72165-1797033600-1797379199@hemoalliance.org
SUMMARY:🟦 Non-Member Event : ASH Annual Meeting & Exposition
DESCRIPTION:Date: December 12 – 15 (New Orleans\, LA)\nClick here for info.
URL:https://hemoalliance.org/alliance-events/non-member-event-ash-annual-meeting-exposition/
CATEGORIES:Non Members
END:VEVENT
END:VCALENDAR